BEGIN:VCALENDAR
VERSION:2.0
PRODID:icalendar-ruby
CALSCALE:GREGORIAN
METHOD:PUBLISH
BEGIN:VTIMEZONE
TZID:Australia/Perth
BEGIN:STANDARD
DTSTART:20090329T020000
TZOFFSETFROM:+0900
TZOFFSETTO:+0800
TZNAME:AWST
END:STANDARD
END:VTIMEZONE
BEGIN:VEVENT
DTSTAMP:20260420T073259Z
UID:inspection_3005027
DTSTART;TZID=Australia/Perth:20260424T093000
DTEND;TZID=Australia/Perth:20260424T094500
CLASS:PUBLIC
CREATED:20260420T113250
DESCRIPTION: 
LAST-MODIFIED:20260420T113250
LOCATION:1 Wilsley Street\, GOSNELLS WA 6110\, Australia
SUMMARY:1 Wilsley Street\,  Inspection
URL;VALUE=URI:https://www.thepropertypod.net.au/
END:VEVENT
END:VCALENDAR
